BEGIN:VCALENDAR
VERSION:2.0
PRODID:-//Vincentinois - ECPv6.15.17.1//NONSGML v1.0//EN
CALSCALE:GREGORIAN
METHOD:PUBLISH
X-ORIGINAL-URL:https://vincentinois.fr
X-WR-CALDESC:Évènements pour Vincentinois
REFRESH-INTERVAL;VALUE=DURATION:PT1H
X-Robots-Tag:noindex
X-PUBLISHED-TTL:PT1H
BEGIN:VTIMEZONE
TZID:Europe/Paris
BEGIN:DAYLIGHT
TZOFFSETFROM:+0100
TZOFFSETTO:+0200
TZNAME:CEST
DTSTART:20220327T010000
END:DAYLIGHT
BEGIN:STANDARD
TZOFFSETFROM:+0200
TZOFFSETTO:+0100
TZNAME:CET
DTSTART:20221030T010000
END:STANDARD
BEGIN:DAYLIGHT
TZOFFSETFROM:+0100
TZOFFSETTO:+0200
TZNAME:CEST
DTSTART:20230326T010000
END:DAYLIGHT
BEGIN:STANDARD
TZOFFSETFROM:+0200
TZOFFSETTO:+0100
TZNAME:CET
DTSTART:20231029T010000
END:STANDARD
BEGIN:DAYLIGHT
TZOFFSETFROM:+0100
TZOFFSETTO:+0200
TZNAME:CEST
DTSTART:20240331T010000
END:DAYLIGHT
BEGIN:STANDARD
TZOFFSETFROM:+0200
TZOFFSETTO:+0100
TZNAME:CET
DTSTART:20241027T010000
END:STANDARD
END:VTIMEZONE
BEGIN:VEVENT
DTSTART;TZID=Europe/Paris:20230617T180000
DTEND;TZID=Europe/Paris:20230617T193000
DTSTAMP:20260423T220753
CREATED:20230401T154230Z
LAST-MODIFIED:20240731T200146Z
UID:5318-1687024800-1687030200@vincentinois.fr
SUMMARY:Conférence "Le chant des campagnes d'autrefois"
DESCRIPTION:proposé par le Parc Régional Naturel du Haut-Languedoc.Traditionnellement\, jusqu’au début du XXème siècle\, la chanson irriguait la vie de tous les jours : elle scandait la marche\, aidait au travail\, rythmait les jeux des enfants. Françoise de Fanti\, chanteuse du duo Landiridi\, illustrera par des chants de collectage les modes de vie des campagnes occitanes qu’elle racontera\, en français\, au cours de cette conférence chantée.Récit dans le jardin de la salle polyvalente de Saint Vincent d’Olargues. Vous pouvez amener votre siège ou votre coussin (chaises sur place). buvette de l’association à l’issue de la conférence.
URL:https://vincentinois.fr/event/ccio/
LOCATION:jardin de la salle polyvalente
CATEGORIES:Conférences
ATTACH;FMTTYPE=image/jpeg:https://vincentinois.fr/wp-content/uploads/2023/06/17-juin_chant-campagnes_ACLV_web.jpg
END:VEVENT
END:VCALENDAR