BEGIN:VCALENDAR
VERSION:2.0
PRODID:-//Vincentinois - ECPv6.15.17.1//NONSGML v1.0//EN
CALSCALE:GREGORIAN
METHOD:PUBLISH
X-WR-CALNAME:Vincentinois
X-ORIGINAL-URL:https://vincentinois.fr
X-WR-CALDESC:Évènements pour Vincentinois
REFRESH-INTERVAL;VALUE=DURATION:PT1H
X-Robots-Tag:noindex
X-PUBLISHED-TTL:PT1H
BEGIN:VTIMEZONE
TZID:Europe/Paris
BEGIN:DAYLIGHT
TZOFFSETFROM:+0100
TZOFFSETTO:+0200
TZNAME:CEST
DTSTART:20220327T010000
END:DAYLIGHT
BEGIN:STANDARD
TZOFFSETFROM:+0200
TZOFFSETTO:+0100
TZNAME:CET
DTSTART:20221030T010000
END:STANDARD
BEGIN:DAYLIGHT
TZOFFSETFROM:+0100
TZOFFSETTO:+0200
TZNAME:CEST
DTSTART:20230326T010000
END:DAYLIGHT
BEGIN:STANDARD
TZOFFSETFROM:+0200
TZOFFSETTO:+0100
TZNAME:CET
DTSTART:20231029T010000
END:STANDARD
BEGIN:DAYLIGHT
TZOFFSETFROM:+0100
TZOFFSETTO:+0200
TZNAME:CEST
DTSTART:20240331T010000
END:DAYLIGHT
BEGIN:STANDARD
TZOFFSETFROM:+0200
TZOFFSETTO:+0100
TZNAME:CET
DTSTART:20241027T010000
END:STANDARD
END:VTIMEZONE
BEGIN:VEVENT
DTSTART;TZID=Europe/Paris:20231118T100000
DTEND;TZID=Europe/Paris:20231118T220000
DTSTAMP:20260423T142911
CREATED:20231103T200446Z
LAST-MODIFIED:20231105T190811Z
UID:5535-1700301600-1700344800@vincentinois.fr
SUMMARY:CULTURE D'AUTOMNE
DESCRIPTION:Programme\n\n\n\n10h : ATELIER DE DESSIN « AUTOUR DE L’ORANGER DE ZAïDA » avec Anna Ishtar.\n\n\n\nVenez interpréter des passages du roman d’Yvette Rocheron « L’oranger de Zaïda »\, avec un personnage\, un repas exotique ou un arbre du livre. Gratuit & ouvert à tou·te·s !Anna Ishtar partage sa vie et son activité artistique entre Saint Vincent d’Olargues et Barcelone. Elle en a d’ailleurs tiré un livre : Entre Catalogne et Occitanie. Les allers-retours d’une urban sketcher (2020). Elle fait partie du collectif artistique Courant d’Art qui tient une galerie à Olargues et du mouvement international « Urban Sketchers ». Depuis\, 2019\, elle propose des stages autour de cette pratique vive et expressive. Instagram: @munoanna \n\n\n\n12h : repas tiré du sac\n\n\n\n14h : ATELIER D’ÉCRITURE avec Marieke Hazard\n\n\n\nGratuit & ouvert à tou·te·sTitulaire d’un D.U « animateur d’ateliers d’écriture »\, Marieke Hazard anime des ateliers depuis une vingtaine d’année En 2000\, elle publie L’envol du geste (ed. Babio). Elle est aussi guide en milieu naturel et initie ses publics au lien entre la nature et les mots. www.ateliers-soleil.fr \n\n\n\n16:30 : LECTURE & RENCONTRE AVEC YVETTE ROCHERON\, autrice de L’ORANGER DE ZAïDA\n\n\n\nZaïda\, adolescente britannico-syrienne\, va découvrir l’histoire tourmentée de sa famille\, dans la Syrie d’El Assad.À la suite d’une carrière de recherche et d’enseignement (Université de Leicester\, GB)\, Yvette Rocheron se tourne vers la fiction en publiant Double Crossings (2009\, ed. Matador) puis Homecomings (2019\, ed. Troubadour Publishing). L’oranger de Zaïda est son troisième roman (2022\, ed. Abbate-Piolé) et le premier traduit en français. \n\n\n\nEXPOSITION\n\n\n\nLes artistes présents ce samedi\, exposent aussi leurs créations personnelles : Les livres\, huiles sur papier d’Éric Lecerf (auteur de l’affiche Culture d’automne)\, Urban sketches d’Anna Ishtar ainsi que les dessins réalisés dans le cadre de l’atelier Autour de l’oranger de Zaïda. \n\n\n\n19h30 : THÉÂTRAGOGO\n\n\n\nd’après Jacques Maurin – Mise en scène par Stéphane Nowak – Compagnie Escalier B – Spectacle tout public – durée 1h15 – tarif : 8 € / gratuit pour les moins de 13 ans. Réservation possible au 07 66 39 62 29.Monter un spectacle\, pas si simple ! Il faut un texte et le savoir\, des comédiens\, un metteur en scène\, des spectateurs et\, pourquoi pas\, un souffleur ou de la musique et\, pourquoi pas\, un revolver ou des journaux et\, pourquoi pas… THÉÂTRAGOGO\, c’est une suite de sketches autour du théâtre\, entrecoupée d’intermèdes. Un spectacle à la limite de l’absurde. C’est drôle et ça fait plaisir ! \n\n\n\nà partir de 20h45 : BAR À SOUPE & TARTINES\n\n\n\nTarif : 5 €.Si l’esprit a besoin de nourritures spirituelles\, le corps a besoin de nourriture terrestre. L’association propose de terminer cette belle journée d’automne autour d’un bon bol de soupe\, de joyeuses tartines… et surtout de discussions enjouées !
URL:https://vincentinois.fr/event/culture-dautomne/
CATEGORIES:Conférences,Expositions,Sorties
ATTACH;FMTTYPE=image/jpeg:https://vincentinois.fr/wp-content/uploads/2023/11/aff-18nov2023-ACLV_P1_web.jpg
END:VEVENT
END:VCALENDAR