BEGIN:VCALENDAR
VERSION:2.0
PRODID:-//Vincentinois - ECPv6.15.17.1//NONSGML v1.0//EN
CALSCALE:GREGORIAN
METHOD:PUBLISH
X-WR-CALNAME:Vincentinois
X-ORIGINAL-URL:https://vincentinois.fr
X-WR-CALDESC:Évènements pour Vincentinois
REFRESH-INTERVAL;VALUE=DURATION:PT1H
X-Robots-Tag:noindex
X-PUBLISHED-TTL:PT1H
BEGIN:VTIMEZONE
TZID:Europe/Paris
BEGIN:DAYLIGHT
TZOFFSETFROM:+0100
TZOFFSETTO:+0200
TZNAME:CEST
DTSTART:20230326T010000
END:DAYLIGHT
BEGIN:STANDARD
TZOFFSETFROM:+0200
TZOFFSETTO:+0100
TZNAME:CET
DTSTART:20231029T010000
END:STANDARD
BEGIN:DAYLIGHT
TZOFFSETFROM:+0100
TZOFFSETTO:+0200
TZNAME:CEST
DTSTART:20240331T010000
END:DAYLIGHT
BEGIN:STANDARD
TZOFFSETFROM:+0200
TZOFFSETTO:+0100
TZNAME:CET
DTSTART:20241027T010000
END:STANDARD
BEGIN:DAYLIGHT
TZOFFSETFROM:+0100
TZOFFSETTO:+0200
TZNAME:CEST
DTSTART:20250330T010000
END:DAYLIGHT
BEGIN:STANDARD
TZOFFSETFROM:+0200
TZOFFSETTO:+0100
TZNAME:CET
DTSTART:20251026T010000
END:STANDARD
END:VTIMEZONE
BEGIN:VEVENT
DTSTART;TZID=Europe/Paris:20240401T100000
DTEND;TZID=Europe/Paris:20240401T113000
DTSTAMP:20260424T070353
CREATED:20240305T183648Z
LAST-MODIFIED:20240305T183648Z
UID:5623-1711965600-1711971000@vincentinois.fr
SUMMARY:Chasse aux oeufs
DESCRIPTION:Enfants gourmands\, à vos paniers ! Les cloches vont passer vers 10h autour du jardin de la salle polyvalente… Cacheront-elles cette année encore quelques chocolats par-ci\, par là ?Les grands qui accompagnent papoteront autour d’un café en attendant !
URL:https://vincentinois.fr/event/chasse-aux-oeufs/
LOCATION:Jardin de la salle polyvalente
CATEGORIES:Divertissements
END:VEVENT
END:VCALENDAR