BEGIN:VCALENDAR
VERSION:2.0
PRODID:-//Vincentinois - ECPv6.15.17.1//NONSGML v1.0//EN
CALSCALE:GREGORIAN
METHOD:PUBLISH
X-WR-CALNAME:Vincentinois
X-ORIGINAL-URL:https://vincentinois.fr
X-WR-CALDESC:Évènements pour Vincentinois
REFRESH-INTERVAL;VALUE=DURATION:PT1H
X-Robots-Tag:noindex
X-PUBLISHED-TTL:PT1H
BEGIN:VTIMEZONE
TZID:Europe/Paris
BEGIN:DAYLIGHT
TZOFFSETFROM:+0100
TZOFFSETTO:+0200
TZNAME:CEST
DTSTART:20210328T010000
END:DAYLIGHT
BEGIN:STANDARD
TZOFFSETFROM:+0200
TZOFFSETTO:+0100
TZNAME:CET
DTSTART:20211031T010000
END:STANDARD
BEGIN:DAYLIGHT
TZOFFSETFROM:+0100
TZOFFSETTO:+0200
TZNAME:CEST
DTSTART:20220327T010000
END:DAYLIGHT
BEGIN:STANDARD
TZOFFSETFROM:+0200
TZOFFSETTO:+0100
TZNAME:CET
DTSTART:20221030T010000
END:STANDARD
BEGIN:DAYLIGHT
TZOFFSETFROM:+0100
TZOFFSETTO:+0200
TZNAME:CEST
DTSTART:20230326T010000
END:DAYLIGHT
BEGIN:STANDARD
TZOFFSETFROM:+0200
TZOFFSETTO:+0100
TZNAME:CET
DTSTART:20231029T010000
END:STANDARD
END:VTIMEZONE
BEGIN:VEVENT
DTSTART;TZID=Europe/Paris:20220924T180000
DTEND;TZID=Europe/Paris:20220924T200000
DTSTAMP:20260423T171708
CREATED:20220919T232126Z
LAST-MODIFIED:20220919T234653Z
UID:4700-1664042400-1664049600@vincentinois.fr
SUMMARY:Réunion sur l'après fête autour du four à pain (bilan\, réactions\, propositions...)
DESCRIPTION:Partage des impressions et réflexions sur l’organisation de la dernière fête autour du four à pain. Nos (brefs) comptes-rendus sur la cuisson du pain\, les achats\, les recettes etc. nourriront la discussion.
URL:https://vincentinois.fr/event/reunion-sur-lapres-fete-autour-du-four-a-pain-bilan-reactions-propositions/
LOCATION:Salle polyvalente de St Vincent d’Olargues
CATEGORIES:Général
END:VEVENT
END:VCALENDAR